BEGIN:VCALENDAR
VERSION:2.0
PRODID:-//International Federation of Social Workers - ECPv6.15.20//NONSGML v1.0//EN
CALSCALE:GREGORIAN
METHOD:PUBLISH
X-WR-CALNAME:International Federation of Social Workers
X-ORIGINAL-URL:https://www.ifsw.org
X-WR-CALDESC:Events for International Federation of Social Workers
REFRESH-INTERVAL;VALUE=DURATION:PT1H
X-Robots-Tag:noindex
X-PUBLISHED-TTL:PT1H
BEGIN:VTIMEZONE
TZID:UTC
BEGIN:STANDARD
TZOFFSETFROM:+0000
TZOFFSETTO:+0000
TZNAME:UTC
DTSTART:20180101T000000
END:STANDARD
END:VTIMEZONE
BEGIN:VEVENT
DTSTART;TZID=UTC:20190906T140000
DTEND;TZID=UTC:20190908T120000
DTSTAMP:20260422T095319
CREATED:20190611T140744Z
LAST-MODIFIED:20190611T141119Z
UID:10000149-1567778400-1567944000@www.ifsw.org
SUMMARY:IFSW Europe e.V. Delegates Meeting 2019
DESCRIPTION:IFSW Europe is pleased to announce the 2019 Delegates Meeting to be held in Vienna\, Austria on the 6th of September (14.00–18.00) – 8th of September (09.00-12.00). \nThis event is open only to representatives and observers of IFSW Europe members. \nRegistration of IFSW European members is available HERE!
URL:https://www.ifsw.org/event/ifsw-europe-e-v-delegates-meeting-2019/
LOCATION:Vienna\, Austria
CATEGORIES:IFSW events
GEO:47.516231;14.550072
END:VEVENT
BEGIN:VEVENT
DTSTART;VALUE=DATE:20190908
DTEND;VALUE=DATE:20190912
DTSTAMP:20260422T095319
CREATED:20180912T105031Z
LAST-MODIFIED:20190322T105828Z
UID:10000138-1567900800-1568246399@www.ifsw.org
SUMMARY:IFSW Europe Conference: Social Protection and Human Dignity
DESCRIPTION:Welcome! \nThe Austrian Association of Social Work (obds) hosts 2019 European Conference. We will provide a broad variety of keynotes\, panels and paper sessions. Meet colleagues from all over the world in workshops at the locations where social work is provided! \n\nOur Motto:\nSocial work strengthening relationships at the heart of thriving\, healthy and peaceful communities: respecting human rights\, safeguarding wellbeing\, increasing participation\, protecting the environment \nhttps://www.ifsw2019.com/de/
URL:https://www.ifsw.org/event/ifsw-europe-conference-social-protection-and-human-dignity/
LOCATION:Vienna\, Friedrich-Schmidt-Platz 1\,\, Vienna\, 1010\, Austria
CATEGORIES:IFSW events
GEO:48.2109437;16.3565084
X-APPLE-STRUCTURED-LOCATION;VALUE=URI;X-ADDRESS=Vienna Friedrich-Schmidt-Platz 1 Vienna 1010 Austria;X-APPLE-RADIUS=500;X-TITLE=Friedrich-Schmidt-Platz 1\,:geo:16.3565084,48.2109437
END:VEVENT
BEGIN:VEVENT
DTSTART;VALUE=DATE:20190918
DTEND;VALUE=DATE:20190921
DTSTAMP:20260422T095319
CREATED:20180928T102045Z
LAST-MODIFIED:20180928T130634Z
UID:10000140-1568764800-1569023999@www.ifsw.org
SUMMARY:THE 2019 ASIA-PACIFIC REGIONAL SOCIAL WORK CONFERENCE: Social Work Partnerships Towards an Equal Society
DESCRIPTION:The 25th Asia-Pacific Joint Regional Social Work Conference (2019) will be held at Bengaluru\, Karnataka State\, India\, between 18th and 20th of September 2019. A pre-conference seminar will also be held on 17th September. \nThis is a biennial Joint Regional Conference of International Federation of Social Workers – Asia Pacific (IFAP ) and Asian and Pacific Association for Social Work Education (APASWE) and hosted by INPSWA – India Network of Professional Social Workers’ Associations in collaboration with the Dept. of Psychiatric Social Work\, NIMHANS\, and Dept. of Social Work\, Christ (Deemed to be University)\, Bengaluru. \nThe Asia-Pacific Joint Regional Social Work Conference is held every two years in Asia-Pacific countries and is recognised as the most significant international conference in the area of Social Work Education and Practice in the region. In 2019 more than 1000 professional Social Work educators\, practitioners\, policymakers\, research scholars and students from around 30 countries in Asia-Pacific region and from around the world are expected to converge at Bengaluru\, India\, to exchange and share experiences\, ideas\, challenges\, methods and successful innovative interventions during this Regional Joint Conference on Social Work. \nThe main theme of the 2019 conference is ‘Social Work Partnerships towards an Equal Society Asia-Pacific Perspective’. \nThe main theme will be discussed under 10 sub-themes \n\nSocial Work Partnerships\nSocial Development\nProtection and Promotion of Human Rights\nGreen Social Work\nCultural Diversity and Social Work\nSocial Policy – Programmes for Public Reach\nChildren\, Youth\, Women and Elderly\nCorrectional Social Work\nHealth and Wellbeing\nCorporate Social Responsibility & Industrial Social Work\n\nFor more information  or contact the main conference organiser directly:  or visit the conference website: https://apswc2019.com/
URL:https://www.ifsw.org/event/the-2019-asia-pacific-regional-social-work-conference/
LOCATION:NIMHANS Convention Centre\, Hosur Main Road\, Lakkasandra\, Hombegowda Nagar\, Bengaluru\, Karnataka\, 560029\, India
CATEGORIES:IFSW events
ATTACH;FMTTYPE=image/jpeg:https://www.ifsw.org/wp-content/uploads/2018/09/screenshot_70.jpg
GEO:12.8539239;77.6660751
X-APPLE-STRUCTURED-LOCATION;VALUE=URI;X-ADDRESS=NIMHANS Convention Centre Hosur Main Road Lakkasandra Hombegowda Nagar Bengaluru Karnataka 560029 India;X-APPLE-RADIUS=500;X-TITLE=Hosur Main Road\, Lakkasandra\, Hombegowda Nagar:geo:77.6660751,12.8539239
END:VEVENT
END:VCALENDAR