BEGIN:VCALENDAR
VERSION:2.0
PRODID:-//International Federation of Social Workers - ECPv6.15.20//NONSGML v1.0//EN
CALSCALE:GREGORIAN
METHOD:PUBLISH
X-ORIGINAL-URL:https://www.ifsw.org
X-WR-CALDESC:Events for International Federation of Social Workers
REFRESH-INTERVAL;VALUE=DURATION:PT1H
X-Robots-Tag:noindex
X-PUBLISHED-TTL:PT1H
BEGIN:VTIMEZONE
TZID:UTC
BEGIN:STANDARD
TZOFFSETFROM:+0000
TZOFFSETTO:+0000
TZNAME:UTC
DTSTART:20180101T000000
END:STANDARD
END:VTIMEZONE
BEGIN:VEVENT
DTSTART;TZID=UTC:20191028T080000
DTEND;TZID=UTC:20191031T170000
DTSTAMP:20260421T101027
CREATED:20190322T105457Z
LAST-MODIFIED:20190322T105557Z
UID:10000147-1572249600-1572541200@www.ifsw.org
SUMMARY:IFSW 2019 Africa Region Conference
DESCRIPTION:Under the theme Social Work In Strengthening Human Relations For Social Economic and Political Transformation (Holistic empowerment) The IFSW 2019 Africa Region Conference aims to enhance existing linkages\, build new partnerships and collaborations and serve as a platform for knowledge exchange and skills development for the scale up of best social work practices in Africa. \nThe National Steering Committee wish you a warm welcome to Kampala\, Uganda for the 3rd International Federation of Social Workers Africa Region Conference 2019. This regional gathering will take place at the Speke Resort and Conference Munyonyo. Speke Resort and Conference Munyonyo is situated in an idyllic setting in Munyonyo\, 30 minutes away from Kampala City- the capital of Uganda and 45mins from Entebbe International Airport. \nFor more information\, please refer to the conference website: http://www.ifswafricaconference.org/
URL:https://www.ifsw.org/event/ifsw-conference-2019-africa-region/
LOCATION:Kampala\, Uganda
CATEGORIES:IFSW events
ATTACH;FMTTYPE=image/jpeg:https://www.ifsw.org/wp-content/uploads/2019/03/logo_kampala.jpg
GEO:1.373333;32.290275
END:VEVENT
END:VCALENDAR