BEGIN:VCALENDAR
VERSION:2.0
PRODID:-//International Federation of Social Workers - ECPv6.15.20//NONSGML v1.0//EN
CALSCALE:GREGORIAN
METHOD:PUBLISH
X-ORIGINAL-URL:https://www.ifsw.org
X-WR-CALDESC:Events for International Federation of Social Workers
REFRESH-INTERVAL;VALUE=DURATION:PT1H
X-Robots-Tag:noindex
X-PUBLISHED-TTL:PT1H
BEGIN:VTIMEZONE
TZID:UTC
BEGIN:STANDARD
TZOFFSETFROM:+0000
TZOFFSETTO:+0000
TZNAME:UTC
DTSTART:20210101T000000
END:STANDARD
END:VTIMEZONE
BEGIN:VEVENT
DTSTART;VALUE=DATE:20220101
DTEND;VALUE=DATE:20220601
DTSTAMP:20260424T085011
CREATED:20220207T120312Z
LAST-MODIFIED:20220207T120313Z
UID:10000190-1640995200-1654041599@www.ifsw.org
SUMMARY:IFSW Global Survey of Working Conditions Of Social Workers
DESCRIPTION:IFSW Global Survey of Working Conditions Of Social Workers \n‘Working conditions affect everybody´\, said Silvana Martinez\, IFSW President\, ´and we know that social workers have some of the most difficult working conditions of any profession around the world. That is why today IFSW is launching the biggest global survey on social working conditions´. \nThe IFSW and Bath Spa University Centre for Health and Cognition (in association with Ulster University Social Work Department) are carrying out the next stage of a long-term global research project shining a light on the everyday working environment of social workers around the world. \nSurvey details \nContact \n  \n 
URL:https://www.ifsw.org/event/ifsw-global-survey-of-working-conditions-of-social-workers/
LOCATION:Online
CATEGORIES:IFSW events
ATTACH;FMTTYPE=image/jpeg:https://www.ifsw.org/wp-content/uploads/2021/12/workforce_survey.jpeg
ORGANIZER;CN="IFSW Ethics commission":MAILTO:global@ifsw.org
END:VEVENT
BEGIN:VEVENT
DTSTART;TZID=UTC:20220514T080000
DTEND;TZID=UTC:20220516T170000
DTSTAMP:20260424T085011
CREATED:20220207T114008Z
LAST-MODIFIED:20220207T114020Z
UID:10000189-1652515200-1652720400@www.ifsw.org
SUMMARY:IFSW 2022 General Meeting
DESCRIPTION:The IFSW 2022 General Meeting (GM) will be held as an online forum on our website on the 14th\, 15th and 16th of May. \nThe General Meeting is the supreme governing body of the Federation and during these three days\, member organisations will discuss and approve the policies of the Federation\, elect the Executive Committee\, and if required approve amendments or additions to the Constitution. \nThe IFSW Secretariat hopes that all members organisations will actively participate in the online forum. More information about registering to participate and how the online process will work is available here: Details on the GM
URL:https://www.ifsw.org/event/ifsw-2022-general-meeting/
LOCATION:Online
CATEGORIES:IFSW events
ATTACH;FMTTYPE=image/jpeg:https://www.ifsw.org/wp-content/uploads/2022/01/gm2022-650x450-1.jpg
END:VEVENT
END:VCALENDAR