BEGIN:VCALENDAR
VERSION:2.0
PRODID:-//International Federation of Social Workers - ECPv6.15.20//NONSGML v1.0//EN
CALSCALE:GREGORIAN
METHOD:PUBLISH
X-WR-CALNAME:International Federation of Social Workers
X-ORIGINAL-URL:https://www.ifsw.org
X-WR-CALDESC:Events for International Federation of Social Workers
REFRESH-INTERVAL;VALUE=DURATION:PT1H
X-Robots-Tag:noindex
X-PUBLISHED-TTL:PT1H
BEGIN:VTIMEZONE
TZID:Europe/Helsinki
BEGIN:DAYLIGHT
TZOFFSETFROM:+0200
TZOFFSETTO:+0300
TZNAME:EEST
DTSTART:20170326T010000
END:DAYLIGHT
BEGIN:STANDARD
TZOFFSETFROM:+0300
TZOFFSETTO:+0200
TZNAME:EET
DTSTART:20171029T010000
END:STANDARD
BEGIN:DAYLIGHT
TZOFFSETFROM:+0200
TZOFFSETTO:+0300
TZNAME:EEST
DTSTART:20180325T010000
END:DAYLIGHT
BEGIN:STANDARD
TZOFFSETFROM:+0300
TZOFFSETTO:+0200
TZNAME:EET
DTSTART:20181028T010000
END:STANDARD
BEGIN:DAYLIGHT
TZOFFSETFROM:+0200
TZOFFSETTO:+0300
TZNAME:EEST
DTSTART:20190331T010000
END:DAYLIGHT
BEGIN:STANDARD
TZOFFSETFROM:+0300
TZOFFSETTO:+0200
TZNAME:EET
DTSTART:20191027T010000
END:STANDARD
END:VTIMEZONE
BEGIN:VEVENT
DTSTART;TZID=Europe/Helsinki:20181106T080000
DTEND;TZID=Europe/Helsinki:20181106T170000
DTSTAMP:20260420T043332
CREATED:20181001T033927Z
LAST-MODIFIED:20181017T133827Z
UID:10000141-1541491200-1541523600@www.ifsw.org
SUMMARY:International Conference on Child Development Accounts: New Approaches to Child Well-Being
DESCRIPTION:The Azerbaijan Social Work Public Union organizes the Conference on Child Development Accounts – A new Development Approach.\n\n\n\n\n\n\n\n\nThe conference is organized together with the Washington University in St. Louis’ Center for Social Development and Next Age Institute\, with the support of the NGO Council under the President’s Office of the Republic of Azerbaijan. \nThe conference is on Child Development Accounts. Child Development Accounts (CDAs) are savings or investment accounts that begin as early as birth as they first suggested by CSD Director Michael Sherraden in his book “Assets and the Poor”. In many cases\, public and private matching funds are deposited into these accounts to supplement savings for the child. The purpose of CDAs is to promote savings and asset building for lifelong development. Therefore\, CDAs may can be opened to supplemental education and experiences in childhood\, post-secondary education for youth\, and home ownership and enterprise development in adulthood. CDAs allow parents and children to accumulate savings to ensure a confident start for child after 18 years old. \n\nFor more information\, please click on the following links \nConference Announcement \nFlyer \nPreliminary Agenda \n 
URL:https://www.ifsw.org/event/international-conference-on-child-development-accounts-new-approaches-to-child-well-being/
LOCATION:Baku\, Baku\, Azerbaijan
CATEGORIES:Other event
ATTACH;FMTTYPE=image/jpeg:https://www.ifsw.org/wp-content/uploads/2018/10/flyer_conference_ENG.jpg
ORGANIZER;CN="Azerbaijan Social Work Public Union":MAILTO:info@azswu.org
GEO:40.4092617;49.8670924
END:VEVENT
END:VCALENDAR