BEGIN:VCALENDAR
VERSION:2.0
PRODID:-//International Federation of Social Workers - ECPv6.15.20//NONSGML v1.0//EN
CALSCALE:GREGORIAN
METHOD:PUBLISH
X-WR-CALNAME:International Federation of Social Workers
X-ORIGINAL-URL:https://www.ifsw.org
X-WR-CALDESC:Events for International Federation of Social Workers
REFRESH-INTERVAL;VALUE=DURATION:PT1H
X-Robots-Tag:noindex
X-PUBLISHED-TTL:PT1H
BEGIN:VTIMEZONE
TZID:UTC
BEGIN:STANDARD
TZOFFSETFROM:+0000
TZOFFSETTO:+0000
TZNAME:UTC
DTSTART:20200101T000000
END:STANDARD
END:VTIMEZONE
BEGIN:VEVENT
DTSTART;VALUE=DATE:20230608
DTEND;VALUE=DATE:20230610
DTSTAMP:20260421T155216
CREATED:20230505T195731Z
LAST-MODIFIED:20230505T195918Z
UID:10000206-1686182400-1686355199@www.ifsw.org
SUMMARY:Young Carers Voices – International perspectives
DESCRIPTION:2023 is the Commonwealth Year of Youth and with the development of the first Commonwealth Young Carers Charter\, it has the potential to be a landmark year. There has also been significant progress in the recognition of the need for more young carers support in other countries around the world.\nTo mark these developments\, young carers and organisations from around the world will be coming together across two days in June to hear the voices of young carers and organisations that are supporting them. \nDownload the flyer here. \nTo register\, please use the following links: \nDay 1: Thursday 8 June\, 5pm to 7pm (UK time): Link \nDay 2: Friday 9 June\, 9am to 11am (UK time): Link
URL:https://www.ifsw.org/event/young-carers-voices-international-perspectives/
LOCATION:Virtual
CATEGORIES:Other event
ATTACH;FMTTYPE=image/jpeg:https://www.ifsw.org/wp-content/uploads/2023/05/webinar_young_carers.jpg
END:VEVENT
BEGIN:VEVENT
DTSTART;TZID=UTC:20210329T103000
DTEND;TZID=UTC:20210329T123000
DTSTAMP:20260421T155216
CREATED:20210326T074825Z
LAST-MODIFIED:20210326T074825Z
UID:10000180-1617013800-1617021000@www.ifsw.org
SUMMARY:Commonwealth History of Social Work
DESCRIPTION:A Social Work History Network webinar in partnership with the Commonwealth Organisation for Social Work and Madras Christian College\n29 March 2021\, 10.30am – 12.30pm (London time)\nThis Social Work History Network webinar (held in partnership with the Commonwealth Organisation for Social Work and Madras Christian College) will reflect on the development of social work in Singapore\, Kenya and the Caribbean with a short input from the International Federation of Social Workers archivist and a broader discussion about social work in Commonwealth countries. The ‘history’ in this context goes back as far as we have evidence (i.e. early twentieth century) through to the 1970/80s (as a rough guide\, i.e. immediate post-independence). It will be chaired by David N Jones (SWHN Steering Group\, COSW Board and former IFSW President).
URL:https://www.ifsw.org/event/commonwealth-history-of-social-work/
LOCATION:Virtual
CATEGORIES:Other event
ATTACH;FMTTYPE=image/jpeg:https://www.ifsw.org/wp-content/uploads/2021/03/sommonwealth.jpg
END:VEVENT
END:VCALENDAR