BEGIN:VCALENDAR
VERSION:2.0
PRODID:-//International Federation of Social Workers - ECPv6.15.20//NONSGML v1.0//EN
CALSCALE:GREGORIAN
METHOD:PUBLISH
X-ORIGINAL-URL:https://www.ifsw.org
X-WR-CALDESC:Events for International Federation of Social Workers
REFRESH-INTERVAL;VALUE=DURATION:PT1H
X-Robots-Tag:noindex
X-PUBLISHED-TTL:PT1H
BEGIN:VTIMEZONE
TZID:Europe/Helsinki
BEGIN:DAYLIGHT
TZOFFSETFROM:+0200
TZOFFSETTO:+0300
TZNAME:EEST
DTSTART:20180325T010000
END:DAYLIGHT
BEGIN:STANDARD
TZOFFSETFROM:+0300
TZOFFSETTO:+0200
TZNAME:EET
DTSTART:20181028T010000
END:STANDARD
BEGIN:DAYLIGHT
TZOFFSETFROM:+0200
TZOFFSETTO:+0300
TZNAME:EEST
DTSTART:20190331T010000
END:DAYLIGHT
BEGIN:STANDARD
TZOFFSETFROM:+0300
TZOFFSETTO:+0200
TZNAME:EET
DTSTART:20191027T010000
END:STANDARD
BEGIN:DAYLIGHT
TZOFFSETFROM:+0200
TZOFFSETTO:+0300
TZNAME:EEST
DTSTART:20200329T010000
END:DAYLIGHT
BEGIN:STANDARD
TZOFFSETFROM:+0300
TZOFFSETTO:+0200
TZNAME:EET
DTSTART:20201025T010000
END:STANDARD
END:VTIMEZONE
BEGIN:VEVENT
DTSTART;TZID=Europe/Helsinki:20190319T100000
DTEND;TZID=Europe/Helsinki:20190319T120000
DTSTAMP:20260421T033723
CREATED:20190218T195626Z
LAST-MODIFIED:20190218T195626Z
UID:10000145-1552989600-1552996800@www.ifsw.org
SUMMARY:WSWD 2019: Round table on social workers standing up for human rights
DESCRIPTION:This year the World Social Work Day\, 19 March\, promotes the importance of human relationships. It is a key day in which social workers worldwide stand together to celebrate the achievements of the profession and take the theme message into their communities\, workplaces and to their governments to raise awareness of the social work contributions and need for further action. In celebration of this day\, the International Federation of Social Workers\, Avenir Social and the Office of the United Nations High Commissioner for Human Rights organize an event to raise awareness on the interlinkages between human rights and social work. The event\, in the form of a round table\, will discuss social workers’ professional commitments to human rights and ways to translate those commitments into everyday social work. In the definition of Social Worker human rights principles are included as fundamental”: “The social work profession promotes social change\, problem solving in human relationships and the empowerment and liberation of people to enhance well-being. Utilizing theories of human behavior and social systems\, social work intervenes at the points where people interact with their environments. Principles of human rights and social justice are fundamental to social work”.\nTraditional social-work ethical codes echo the Universal Declaration of Human Rights\, a milestone in international human rights law\, and social work’s ethical commitments compel social workers to advocate for human rights. The clearest link between social work and human rights exists within the UDHR itself: Article 25 elaborates the right to “necessary social\nservices: “Everyone has the right to a standard of living adequate for the health and well-being of himself and of his family\, including food\, clothing\, housing and medical care and necessary social services\, and the right to security in the event of unemployment\, sickness\, disability\, widowhood\, old age or other lack of livelihood in circumstances beyond his control. Motherhood and childhood are entitled to special care and assistance”. \nSpeakers\nMr. Rio Hada\, Team Leader\, Economic\, Social and Cultural Rights (OHCHR)\nMr. Rory Truell\, General Secretary of IFSW\nMs. Annina Grob\, Co-CEO of avenirsocial\nMr. Kumi Naidoo\, General Secretary\, Amnesty International (tbc)\nMr. Joachim Mumba\, Social Worker and IFSW Regional Vice President\, Zambia \nCoffee will be served from 9.30 on \nDownload the invitation here. \nFree participation. No registration necessary but kindly asking to inform by email:
URL:https://www.ifsw.org/event/wswd-2019-round-table-on-social-workers-standing-up-for-human-rights/
LOCATION:Centre de Conference Internationales Geneve\, Rue de Varembé 17\, Geneva\, 1211\, Switzerland
GEO:46.2207321;6.1378659
X-APPLE-STRUCTURED-LOCATION;VALUE=URI;X-ADDRESS=Centre de Conference Internationales Geneve Rue de Varembé 17 Geneva 1211 Switzerland;X-APPLE-RADIUS=500;X-TITLE=Rue de Varembé 17:geo:6.1378659,46.2207321
END:VEVENT
END:VCALENDAR