BEGIN:VCALENDAR
VERSION:2.0
PRODID:-//International Federation of Social Workers - ECPv6.15.20//NONSGML v1.0//EN
CALSCALE:GREGORIAN
METHOD:PUBLISH
X-ORIGINAL-URL:https://www.ifsw.org
X-WR-CALDESC:Events for International Federation of Social Workers
REFRESH-INTERVAL;VALUE=DURATION:PT1H
X-Robots-Tag:noindex
X-PUBLISHED-TTL:PT1H
BEGIN:VTIMEZONE
TZID:Asia/Tokyo
BEGIN:STANDARD
TZOFFSETFROM:+0900
TZOFFSETTO:+0900
TZNAME:JST
DTSTART:20200101T000000
END:STANDARD
END:VTIMEZONE
BEGIN:VEVENT
DTSTART;TZID=Asia/Tokyo:20210307T130000
DTEND;TZID=Asia/Tokyo:20210307T160000
DTSTAMP:20260421T023436
CREATED:20210217T103304Z
LAST-MODIFIED:20210302T114414Z
UID:10000161-1615122000-1615132800@www.ifsw.org
SUMMARY:Asian international symposium 7th March 2021
DESCRIPTION:Social work practice during the COVID-19 Pandemic; \nCommunity resilience and mental wellbeing \n \nThis the first 2021 Asian symposium on WSWD2021. It is an opportunity for practitioners\, government representatives\, scholars\, and other experts globally to share and discuss how life changed during the covid-19 pandemic if any. It is in efforts to strengthen social work practice\, community resilience and mental wellbeing. \nHost\,  Webinar poster \n 
URL:https://www.ifsw.org/event/asian-international-symposium-7th-march-2021/
LOCATION:japan
END:VEVENT
END:VCALENDAR