BEGIN:VCALENDAR
VERSION:2.0
PRODID:-//International Federation of Social Workers - ECPv6.15.20//NONSGML v1.0//EN
CALSCALE:GREGORIAN
METHOD:PUBLISH
X-WR-CALNAME:International Federation of Social Workers
X-ORIGINAL-URL:https://www.ifsw.org
X-WR-CALDESC:Events for International Federation of Social Workers
REFRESH-INTERVAL;VALUE=DURATION:PT1H
X-Robots-Tag:noindex
X-PUBLISHED-TTL:PT1H
BEGIN:VTIMEZONE
TZID:America/Montreal
BEGIN:DAYLIGHT
TZOFFSETFROM:-0500
TZOFFSETTO:-0400
TZNAME:EDT
DTSTART:20170312T070000
END:DAYLIGHT
BEGIN:STANDARD
TZOFFSETFROM:-0400
TZOFFSETTO:-0500
TZNAME:EST
DTSTART:20171105T060000
END:STANDARD
BEGIN:DAYLIGHT
TZOFFSETFROM:-0500
TZOFFSETTO:-0400
TZNAME:EDT
DTSTART:20180311T070000
END:DAYLIGHT
BEGIN:STANDARD
TZOFFSETFROM:-0400
TZOFFSETTO:-0500
TZNAME:EST
DTSTART:20181104T060000
END:STANDARD
BEGIN:DAYLIGHT
TZOFFSETFROM:-0500
TZOFFSETTO:-0400
TZNAME:EDT
DTSTART:20190310T070000
END:DAYLIGHT
BEGIN:STANDARD
TZOFFSETFROM:-0400
TZOFFSETTO:-0500
TZNAME:EST
DTSTART:20191103T060000
END:STANDARD
END:VTIMEZONE
BEGIN:VEVENT
DTSTART;VALUE=DATE:20180808
DTEND;VALUE=DATE:20180811
DTSTAMP:20260424T030037
CREATED:20180111T125212Z
LAST-MODIFIED:20180619T095110Z
UID:10000135-1533686400-1533945599@www.ifsw.org
SUMMARY:Social Work and Sexualities Conference
DESCRIPTION:This three-day conference will feature keynote presentations from Professor Gerald P. Mallon (National Center for Child Welfare Excellence\, Hunter College\, New York\, USA); Professor Nengeh Mensah (Social Work\, Université du Québec à Montréal\, Canada); Gina Metallic (Mi’kmaq Social Worker and Community Organizer\, from the Listuguj First Nation); and Dr Damien Riggs (Associate Professor\, University of Adelaide). The main conference theme highlights the ways in which a plurality of sexualities\, genders and various intersectionalities converge to shape contemporary society. This conference thus aims to explore how these complexities inform social work practice\, research and education for not only academics but also practitioners and service users.\nCall for papers (English)\nAppel aux communications (Français)
URL:https://www.ifsw.org/event/social-work-and-sexualities-conference/
LOCATION:Université de Montréal\, 2900 Edouard Montpetit Blvd\, Montreal\, QC\, H3T 1J4\, Canada
GEO:45.5027205;-73.6152322
X-APPLE-STRUCTURED-LOCATION;VALUE=URI;X-ADDRESS=Université de Montréal 2900 Edouard Montpetit Blvd Montreal QC H3T 1J4 Canada;X-APPLE-RADIUS=500;X-TITLE=2900 Edouard Montpetit Blvd:geo:-73.6152322,45.5027205
END:VEVENT
END:VCALENDAR